BEGIN:VCALENDAR
VERSION:2.0
PRODID:DPCALENDAR
CALSCALE:GREGORIAN
X-WR-TIMEZONE:UTC
BEGIN:VEVENT
DTSTART:20230422T133000Z
DTEND:20230422T220000Z
UID:7c5ed22bfa5f15be7efa9b9a8ffea153
SUMMARY:La Grande Cariçaie: richesses naturelles d’un marais d’importance nationale
DTSTAMP:20230129T144921Z
DESCRIPTION:La Grande Cariçaie: richesses naturelles d’un marais d’importance nationaleRdv : 13h30 à la gare de Cheyres. En train : Lausanne 12h25 - Yverdon-les-Bains 12h58,départ pour Cheyres 13h18, arrivée 13h29.Inscription obligatoire : deux programmes possibles (13h30-17h30 ou 13h30-22h).\NFormulaire d’inscription disponible via www.natures.ch\N\NOrganisation : Union vaudoise des Sociétés scientifiques\NÂ 
X-ALT-DESC;FMTTYPE=text/html:<p><span style="font-family: arial, helvetica, sans-serif;"><span class="markedContent" id="page122R_mcid7"><span role="presentation" dir="ltr" style="left: 219.83px; top: 256.813px; font-size: 20px;"><span class="markedContent" id="page122R_mcid8"><span role="presentation" dir="ltr" style="left: 322.267px; top: 256.813px; font-size: 20px;"><span role="presentation" dir="ltr" style="left: 326.359px; top: 256.813px; font-size: 20px;"><span class="markedContent" id="page122R_mcid9"><span role="presentation" dir="ltr" style="left: 60px; top: 280.98px; font-size: 12pt;"><strong><span style="font-size: 14pt;">La Grande Cariçaie: richesses naturelles d’un marais d’importance nationale</span></strong><span class="markedContent" id="page122R_mcid10"><br role="presentation" /><span role="presentation" dir="ltr" style="left: 60px; top: 305.146px;">Rdv : 13h30 à la gare de Cheyres. En train : Lausanne 12h25 - Yverdon-les-Bains 12h58,<span class="markedContent" id="page122R_mcid11"><br role="presentation" /><span role="presentation" dir="ltr" style="left: 60px; top: 329.313px;">départ pour Cheyres 13h18, arrivée 13h29.<span class="markedContent" id="page122R_mcid12"><br role="presentation" /><span role="presentation" dir="ltr" style="left: 60px; top: 353.48px;">Inscription obligatoire<span class="markedContent" id="page122R_mcid13"><span role="presentation" dir="ltr" style="left: 202.366px; top: 353.48px;"> <span role="presentation" dir="ltr" style="left: 205.628px; top: 353.48px;">: deux programmes possibles (13h30-17h30 ou 13h30-22h).</span></span></span></span></span></span></span></span></span></span></span></span></span></span></span></span></span></p><p><span style="font-family: arial, helvetica, sans-serif;"><span class="markedContent" id="page122R_mcid7"><span role="presentation" dir="ltr" style="left: 219.83px; top: 256.813px; font-size: 20px;"><span class="markedContent" id="page122R_mcid8"><span role="presentation" dir="ltr" style="left: 322.267px; top: 256.813px; font-size: 20px;"><span role="presentation" dir="ltr" style="left: 326.359px; top: 256.813px; font-size: 20px;"><span class="markedContent" id="page122R_mcid9"><span role="presentation" dir="ltr" style="left: 60px; top: 280.98px; font-size: 12pt;"><span class="markedContent" id="page122R_mcid10"><span role="presentation" dir="ltr" style="left: 60px; top: 305.146px;"><span class="markedContent" id="page122R_mcid11"><span role="presentation" dir="ltr" style="left: 60px; top: 329.313px;"><span class="markedContent" id="page122R_mcid12"><span role="presentation" dir="ltr" style="left: 60px; top: 353.48px;"><span class="markedContent" id="page122R_mcid13"><span role="presentation" dir="ltr" style="left: 202.366px; top: 353.48px;"><span role="presentation" dir="ltr" style="left: 205.628px; top: 353.48px;">Formu<span class="markedContent" id="page122R_mcid14"><span role="presentation" dir="ltr" style="left: 629.737px; top: 353.48px;"><span class="markedContent" id="page122R_mcid15"><span role="presentation" dir="ltr" style="left: 60px; top: 377.646px;">laire d’inscription disponible via<span class="markedContent" id="page122R_mcid16"><span role="presentation" dir="ltr" style="left: 265.773px; top: 377.646px;"><span role="presentation" dir="ltr" style="left: 269.404px; top: 377.646px;"> </span></span></span><a href="http://www.natures.ch"><span class="markedContent" id="page122R_mcid16"><span role="presentation" dir="ltr" style="left: 265.773px; top: 377.646px;"><span role="presentation" dir="ltr" style="left: 269.404px; top: 377.646px;">www.natures.ch</span></span></span></a></span></span></span></span></span></span></span></span></span></span></span></span></span></span></span></span></span></span></span></span></span></p><p><span style="font-family: arial, helvetica, sans-serif;"><span class="markedContent"><span role="presentation" dir="ltr" style="left: 219.83px; top: 256.813px; font-size: 20px;"><span class="markedContent"><span role="presentation" dir="ltr" style="left: 322.267px; top: 256.813px; font-size: 20px;"><span role="presentation" dir="ltr" style="left: 326.359px; top: 256.813px; font-size: 20px;"><span class="markedContent"><span role="presentation" dir="ltr" style="left: 60px; top: 280.98px; font-size: 12pt;"><span class="markedContent"><span role="presentation" dir="ltr" style="left: 60px; top: 305.146px;"><span class="markedContent"><span role="presentation" dir="ltr" style="left: 60px; top: 329.313px;"><span class="markedContent"><span role="presentation" dir="ltr" style="left: 60px; top: 353.48px;"><span class="markedContent"><span role="presentation" dir="ltr" style="left: 202.366px; top: 353.48px;"><span role="presentation" dir="ltr" style="left: 205.628px; top: 353.48px;"><span class="markedContent"><span role="presentation" dir="ltr" style="left: 629.737px; top: 353.48px;"><span class="markedContent"><span role="presentation" dir="ltr" style="left: 60px; top: 377.646px;"><span class="markedContent"><span role="presentation" dir="ltr" style="left: 265.773px; top: 377.646px;"><span role="presentation" dir="ltr" style="left: 269.404px; top: 377.646px;"></span></span></span></span></span></span></span></span></span></span></span></span></span></span></span></span></span></span></span></span></span></span></span></span></p><p><span style="font-family: arial, helvetica, sans-serif; font-size: 12pt;"><span class="markedContent" id="page122R_mcid7"><span role="presentation" dir="ltr" style="left: 219.83px; top: 256.813px;">Organisation :<span class="markedContent" id="page122R_mcid8"><span role="presentation" dir="ltr" style="left: 322.267px; top: 256.813px;"> <span role="presentation" dir="ltr" style="left: 326.359px; top: 256.813px;">Union vaudoise des Sociétés scientifiques</span></span></span></span></span></span></p><p>&nbsp;</p>
X-ACCESS:1
X-MODIFIED:20230129T152552Z
X-HITS:614
X-URL:
X-COLOR:
END:VEVENT
END:VCALENDAR